Workbook

Sheet Stampa
J2: =IF(Istituto!C7<>"",Istituto!C7,"") -> Istituto Comprensivo Statale
J3: =IF(Istituto!C10<>"",Istituto!C10,"") -> Pietrasanta 2
J4: =IF(Istituto!T10<>"",Istituto!T10,"") -> LUIC850009
J6: =IF(Istituto!C13<>"",Istituto!C13,"") & IF(Istituto!P13<>"",", " & Istituto!P14 & " " & Istituto!P13,"") & IF(Istituto!T13<>""," " & Istituto!T13,"") & IF(Istituto!AG13<>""," (" & Istituto!AG13 & ")","") -> Beato Angelico, 6, c.a.p. 55045 Pietrasanta (LU)
J7: =IF(Istituto!C16<>"","Tel. " & Istituto!C16,"") & IF(Istituto!M16<>""," - Fax " & Istituto!M16,"") -> Tel. 0584 745924
J8: =IF(Istituto!W16<>"",Istituto!W17 & " ''" & Istituto!W16 & "''","") -> E-mail ''luic850009@istruzione.it''
J9: =IF(Istituto!C19<>"",Istituto!C20 & " " & Istituto!C19,"") -> Dirigente Prof.ssa Barbara Caterini
M14: P.D.P.
B15: Piano Didattico Personalizzato
M17: Anno Scolastico
M18: =Istituto!AC4 -> 2026 - 2027
M23: =IF(OR(Modulo!D4<>"",Modulo!R4<>""),Modulo!C4,"")
B24: =IF(M23<>"",Modulo!D4 & " " & Modulo!R4,"")
M27: =IF(OR(Modulo!D10<>"",Modulo!H10<>""),"Classe","")
M28: =IF(M27<>"",Modulo!D10 & Modulo!H10,"")
A32: =IF(OR(HOME!L16<>"",HOME!S16<>""),HOME!I16,"")
A33: =IF(A32<>"",IF(HOME!L16<>"",HOME!M16,IF(OR(HOME!S18<>"",HOME!U18<>"",HOME!W18<>"",HOME!Z18<>"",HOME!AB18<>"",HOME!AD18<>""),CONCATENATE(HOME!R18,HOME!S18,HOME!T18,HOME!U18,HOME!V18,HOME!W18,HOME!Y18,HOME!Z18,HOME!AA18,HOME!AB18,HOME!AC18,HOME!AD18),HOME!T16)),"")
J37: =IF(Plesso!C7<>"",Plesso!C7,"") -> Scuola Statale
J38: =IF(Plesso!C10<>"",Plesso!C10,"")
J39: =IF(Plesso!T10<>"",Plesso!T10,"") -> LUIC850009
J41: =IF(Plesso!C13<>"",Plesso!C13,"") & IF(Plesso!P13<>"",", " & Plesso!P14 & " " & Plesso!P13,"") & IF(Plesso!T13<>""," " & Plesso!T13,"") & IF(Plesso!AG13<>""," (" & Plesso!AG13 & ")","") -> , c.a.p. 55045 Pietrasanta (LU)
J42: =IF(Plesso!C16<>"","Tel. " & Plesso!C16,"") & IF(Plesso!M16<>""," - Fax " & Plesso!M16,"")
J43: =IF(Plesso!W16<>"",Plesso!W17 & " ''" & Plesso!W16 & "''","") -> E-mail ''LUIC850009@ISTRUZIONE.IT''
A44: =IF(Modulo!A$1<>"",Modulo!A$1,"") -> Istituto Comprensivo Statale Pietrasanta 2 | AI44: =B$15 & " di " & B$24 -> Piano Didattico Personalizzato di
R45: =Stampa!M14 & " " & Stampa!M18 -> P.D.P. 2026 - 2027
C47: =IF(AH47="F","Alunna","Alunno") -> Alunno | D47: =IF(HOME!D4<>"",HOME!D4,"") | R47: =IF(HOME!R4<>"",HOME!R4,"") | AG47: sesso | AH47: =IF(Modulo!AH4<>"",Modulo!AH4,"") | AI47: =IF(Modulo!AI4<>"",Modulo!AI4,"")
D48: cognome | R48: nome | AH48: M/F
C50: =IF(AH47="F","nata il","nato il") -> nato il | D50: =IF(Modulo!D7<>"",Modulo!D7,"") | E50: / | F50: =IF(Modulo!F7<>"",Modulo!F7,"") | G50: / | H50: =IF(Modulo!H7<>"",Modulo!H7,"") | I50: =IF(Modulo!I7<>"",Modulo!I7,"") | K50: a | L50: =IF(Modulo!L7<>"",Modulo!L7,"") | M50: =IF(Modulo!M7<>"",Modulo!M7,"") | N50: =IF(Modulo!N7<>"",Modulo!N7,"") | O50: =IF(Modulo!O7<>"",Modulo!O7,"") | P50: =IF(Modulo!P7<>"",Modulo!P7,"") | Q50: =IF(Modulo!Q7<>"",Modulo!Q7,"") | R50: =IF(Modulo!R7<>"",Modulo!R7,"") | S50: =IF(Modulo!S7<>"",Modulo!S7,"") | ... U50: =IF(Modulo!U7<>"",Modulo!U7,"") | Z50: nazionalità | AA50: =IF(Modulo!AA7<>"",Modulo!AA7,"") | AB50: =IF(Modulo!AB7<>"",Modulo!AB7,"") | AC50: =IF(Modulo!AC7<>"",Modulo!AC7,"") | AD50: =IF(Modulo!AD7<>"",Modulo!AD7,"") | AE50: =IF(Modulo!AE7<>"",Modulo!AE7,"") | AF50: =IF(Modulo!AF7<>"",Modulo!AF7,"") | AG50: =IF(Modulo!AG7<>"",Modulo!AG7,"") | AH50: =IF(Modulo!AH7<>"",Modulo!AH7,"") | AI50: =IF(Modulo!AI7<>"",Modulo!AI7,"")
D51: gg | F51: mm | H51: aaaa | L51: comune di nascita
C53: Classe | D53: =IF(Modulo!D10<>"",Modulo!D10,"") | E53: =IF(Modulo!E10<>"",Modulo!E10,"") | G53: Sez. | H53: =IF(Modulo!H10<>"",Modulo!H10,"") | I53: =IF(Modulo!I10<>"",Modulo!I10,"") | P53: tempo scuola di | Q53: =IF(Modulo!Q10<>"",Modulo!Q10,"") | R53: =IF(Modulo!R10<>"",Modulo!R10,"") | S53: / | T53: =IF(Modulo!T10<>"",Modulo!T10,"") | U53: =IF(Modulo!U10<>"",Modulo!U10,"") | V53: ore settimanali(1) | AG53: n. alunni classe | AH53: =IF(Modulo!AH10<>"",Modulo!AH10,"") | AI53: =IF(Modulo!AI10<>"",Modulo!AI10,"")
P54: dell'alunno/della classe
A56: Il curriculum scolastico risulta | K56: =IF(Modulo!K13<>"",Modulo!K13,"") | L56: regolare | Q56: =IF(Modulo!Q13<>"",Modulo!Q13,"") | R56: non regolare
A58: ="(1) Se l'orario dell'" & IF(AH47="F","alunna","alunno") & " è ridotto, spiegare le motivazioni e/o le attività svolte in quelle ore in cui non è presente a scuola." -> (1) Se l'orario dell'alunno è ridotto, spiegare le motivazioni e/o le attività svolte in quelle ore in cui non è presente a scuola.
A59: =IF(Modulo!A16<>"",Modulo!A16,"") | B59: =IF(Modulo!B16<>"",Modulo!B16,"") | C59: =IF(Modulo!C16<>"",Modulo!C16,"") | D59: =IF(Modulo!D16<>"",Modulo!D16,"") | E59: =IF(Modulo!E16<>"",Modulo!E16,"") | F59: =IF(Modulo!F16<>"",Modulo!F16,"") | G59: =IF(Modulo!G16<>"",Modulo!G16,"") | H59: =IF(Modulo!H16<>"",Modulo!H16,"") | ... AI59: =IF(Modulo!AI16<>"",Modulo!AI16,"")
A60: =IF(Modulo!A17<>"",Modulo!A17,"") | B60: =IF(Modulo!B17<>"",Modulo!B17,"") | C60: =IF(Modulo!C17<>"",Modulo!C17,"") | D60: =IF(Modulo!D17<>"",Modulo!D17,"") | E60: =IF(Modulo!E17<>"",Modulo!E17,"") | F60: =IF(Modulo!F17<>"",Modulo!F17,"") | G60: =IF(Modulo!G17<>"",Modulo!G17,"") | H60: =IF(Modulo!H17<>"",Modulo!H17,"") | ... AI60: =IF(Modulo!AI17<>"",Modulo!AI17,"")
A61: =IF(Modulo!A18<>"",Modulo!A18,"") | B61: =IF(Modulo!B18<>"",Modulo!B18,"") | C61: =IF(Modulo!C18<>"",Modulo!C18,"") | D61: =IF(Modulo!D18<>"",Modulo!D18,"") | E61: =IF(Modulo!E18<>"",Modulo!E18,"") | F61: =IF(Modulo!F18<>"",Modulo!F18,"") | G61: =IF(Modulo!G18<>"",Modulo!G18,"") | H61: =IF(Modulo!H18<>"",Modulo!H18,"") | ... AI61: =IF(Modulo!AI18<>"",Modulo!AI18,"")
A65: =IF(Modulo!B23<>""," - " & Modulo!C23,"") & IF(Modulo!B24<>""," - " & Modulo!C24,"") & IF(Modulo!B25<>""," - " & Modulo!C25,"") & IF(Modulo!B26<>""," - " & Modulo!C26,"") & IF(Modulo!B27<>""," - " & Modulo!C27,"") & IF(Modulo!B28<>""," - " & Modulo!C28,"") & IF(Modulo!B29<>""," - " & Modulo!C29,"") & IF(OR(Modulo!B30<>"",Modulo!J30<>"")," - " & Modulo!J30,"") & IF(OR(Modulo!B23<>"",Modulo!B24<>"",Modulo!B25<>"",Modulo!B26<>"",Modulo!B27<>"",Modulo!B28<>"",Modulo!B29<>"",Modulo!B30<>"",Modulo!J30<>"")," -","")
A67: =Modulo!A34 -> INDIVIDUAZIONE DELLA SITUAZIONE DI BISOGNO EDUCATIVO SPECIALE
A68: =IF(OR(Modulo!F41<>"",Modulo!I41<>""),Modulo!E41 & ": " & IF(Modulo!F41<>"",Modulo!F41,"") & " " & IF(Modulo!I41<>"","(" & Modulo!I41 & ")",""),"")
A69: =IF(OR(Modulo!B37<>"",Modulo!B38<>"",Modulo!B39<>""), Modulo!B36 & IF(Modulo!B37<>"",Modulo!C37,IF(Modulo!B38<>"",Modulo!C38,Modulo!C39)),"")
A70: =IF(Modulo!F44<>"",Modulo!E44 & Modulo!F44 & Modulo!AB44 & Modulo!AC44& Modulo!AD44 & Modulo!AE44 & Modulo!AF44 & Modulo!AG44,"")
L77: Dati rilevabili da osservazioni in classe | W77: Dati rilevabili da diagnosi specialistica
A78: ='Processo di apprendimento'!B12 -> Proprietà linguistica | L78: =IF('Processo di apprendimento'!I13<>"", " -" & 'Processo di apprendimento'!J13,"") & IF('Processo di apprendimento'!I14<>"", " -" & 'Processo di apprendimento'!J14,"") & IF('Processo di apprendimento'!I15<>"", " -" & 'Processo di apprendimento'!J15,"") & IF('Processo di apprendimento'!I16<>"", " -" & 'Processo di apprendimento'!J16,"") & IF('Processo di apprendimento'!I17<>"", " -" & 'Processo di apprendimento'!J17,"") & IF(OR('Processo di apprendimento'!I18<>"",'Processo di apprendimento'!L18<>""), " - " & 'Processo di apprendimento'!L18,"") | W78: =IF('Processo di apprendimento'!W13<>"",'Processo di apprendimento'!W13,"")
A79: ='Processo di apprendimento'!B21 -> Memoria | L79: =IF('Processo di apprendimento'!I22<>"", " -" & 'Processo di apprendimento'!J22,"") & IF('Processo di apprendimento'!I23<>"", " -" & 'Processo di apprendimento'!J23,"") & IF('Processo di apprendimento'!I24<>"", " -" & 'Processo di apprendimento'!J24,"") & IF('Processo di apprendimento'!I25<>"", " -" & 'Processo di apprendimento'!J25,"") & IF(OR('Processo di apprendimento'!I27<>"",'Processo di apprendimento'!L27<>""), " - " & 'Processo di apprendimento'!L27,"") | W79: =IF('Processo di apprendimento'!W22<>"",'Processo di apprendimento'!W22,"")
A80: ='Processo di apprendimento'!B30 -> Attenzione | L80: =IF('Processo di apprendimento'!I31<>"", " -" & 'Processo di apprendimento'!J31,"") & IF('Processo di apprendimento'!I32<>"", " -" & 'Processo di apprendimento'!J32,"") & IF('Processo di apprendimento'!I33<>"", " -" & 'Processo di apprendimento'!J33,"") & IF('Processo di apprendimento'!I34<>"", " -" & 'Processo di apprendimento'!J34,"") & IF(OR('Processo di apprendimento'!I35<>"",'Processo di apprendimento'!L35<>""), " - " & 'Processo di apprendimento'!L35,"") | W80: =IF('Processo di apprendimento'!W31<>"",'Processo di apprendimento'!W31,"")
A81: ='Processo di apprendimento'!B38 -> Affaticabilità | L81: =IF('Processo di apprendimento'!I39<>"", " -" & 'Processo di apprendimento'!J39,"") & IF('Processo di apprendimento'!I40<>"", " -" & 'Processo di apprendimento'!J40,"") & IF('Processo di apprendimento'!I41<>"", " -" & 'Processo di apprendimento'!J41,"") & IF(OR('Processo di apprendimento'!I42<>"",'Processo di apprendimento'!L42<>""), " - " & 'Processo di apprendimento'!L42,"") | W81: =IF('Processo di apprendimento'!W39<>"",'Processo di apprendimento'!W39,"")
A82: ='Processo di apprendimento'!B45 -> Prassie | L82: =IF('Processo di apprendimento'!I46<>"", " -" & 'Processo di apprendimento'!J46,"") & IF('Processo di apprendimento'!I47<>"", " -" & 'Processo di apprendimento'!J47,"") & IF('Processo di apprendimento'!I48<>"", " -" & 'Processo di apprendimento'!J48,"") & IF('Processo di apprendimento'!I49<>"", " -" & 'Processo di apprendimento'!J49,"") & IF(OR('Processo di apprendimento'!I50<>"",'Processo di apprendimento'!L50<>""), " - " & 'Processo di apprendimento'!L50,"") | W82: =IF('Processo di apprendimento'!W46<>"",'Processo di apprendimento'!W46,"")
A84: =IF(Modulo!A$1<>"",Modulo!A$1,"") -> Istituto Comprensivo Statale Pietrasanta 2 | AI84: =B$15 & " di " & B$24 -> Piano Didattico Personalizzato di
A86: ='Processo di apprendimento'!A57 -> MOTIVAZIONE
L87: Dati rilevabili da osservazioni in classe | W87: Dati rilevabili da diagnosi specialistica
A88: ='Processo di apprendimento'!B60 -> Partecipazione al dialogo educativo | L88: =IF('Processo di apprendimento'!I61<>"", " -" & 'Processo di apprendimento'!J61,"") & IF('Processo di apprendimento'!I62<>"", " -" & 'Processo di apprendimento'!J62,"") & IF('Processo di apprendimento'!I63<>"", " -" & 'Processo di apprendimento'!J63,"") & IF('Processo di apprendimento'!I64<>"", " -" & 'Processo di apprendimento'!J64,"") & IF(OR('Processo di apprendimento'!I65<>"",'Processo di apprendimento'!L65<>""), " - " & 'Processo di apprendimento'!L65,"") | W88: =IF('Processo di apprendimento'!W61<>"",'Processo di apprendimento'!W61,"")
A89: ='Processo di apprendimento'!B68 -> Consapevolezza delle proprie difficoltà | L89: =IF('Processo di apprendimento'!I69<>"", " -" & 'Processo di apprendimento'!J69,"") & IF('Processo di apprendimento'!I70<>"", " -" & 'Processo di apprendimento'!J70,"") & IF('Processo di apprendimento'!I71<>"", " -" & 'Processo di apprendimento'!J71,"") & IF('Processo di apprendimento'!I72<>"", " -" & 'Processo di apprendimento'!J72,"") & IF(OR('Processo di apprendimento'!I73<>"",'Processo di apprendimento'!L73<>""), " - " & 'Processo di apprendimento'!L73,"") | W89: =IF('Processo di apprendimento'!W69<>"",'Processo di apprendimento'!W69,"")
A90: ='Processo di apprendimento'!B76 -> Consapevolezza dei propri punti di forza | L90: =IF('Processo di apprendimento'!I77<>"", " -" & 'Processo di apprendimento'!J77,"") & IF('Processo di apprendimento'!I78<>"", " -" & 'Processo di apprendimento'!J78,"") & IF('Processo di apprendimento'!I79<>"", " -" & 'Processo di apprendimento'!J79,"") & IF('Processo di apprendimento'!I80<>"", " -" & 'Processo di apprendimento'!J80,"") & IF(OR('Processo di apprendimento'!I81<>"",'Processo di apprendimento'!L81<>""), " - " & 'Processo di apprendimento'!L81,"") | W90: =IF('Processo di apprendimento'!W77<>"",'Processo di apprendimento'!W77,"")
A91: ='Processo di apprendimento'!B84 -> Autostima | L91: =IF('Processo di apprendimento'!I85<>"", " -" & 'Processo di apprendimento'!J85,"") & IF('Processo di apprendimento'!I86<>"", " -" & 'Processo di apprendimento'!J86,"") & IF('Processo di apprendimento'!I87<>"", " -" & 'Processo di apprendimento'!J87,"") & IF('Processo di apprendimento'!I88<>"", " -" & 'Processo di apprendimento'!J88,"") & IF(OR('Processo di apprendimento'!I89<>"",'Processo di apprendimento'!L89<>""), " - " & 'Processo di apprendimento'!L89,"") | W91: =IF('Processo di apprendimento'!W85<>"",'Processo di apprendimento'!W85,"")
A92: =IF('Processo di apprendimento'!B94<>"",'Processo di apprendimento'!B94,"") | L92: =IF('Processo di apprendimento'!I93<>"", " -" & 'Processo di apprendimento'!J93,"") & IF('Processo di apprendimento'!I94<>"", " -" & 'Processo di apprendimento'!J94,"") & IF('Processo di apprendimento'!I95<>"", " -" & 'Processo di apprendimento'!J95,"") & IF('Processo di apprendimento'!I96<>"", " -" & 'Processo di apprendimento'!J96,"") & IF(OR('Processo di apprendimento'!I97<>"",'Processo di apprendimento'!L97<>""), " - " & 'Processo di apprendimento'!L97,"") | W92: =IF('Processo di apprendimento'!W93<>"",'Processo di apprendimento'!W93,"")
L95: Dati rilevabili da osservazioni in classe | W95: Dati rilevabili da diagnosi specialistica
A96: ='Descrizione dei comportamenti'!B12 -> Comprensione delle consegne | L96: =IF('Descrizione dei comportamenti'!I13<>"", " -" & 'Descrizione dei comportamenti'!J13,"") & IF('Descrizione dei comportamenti'!I14<>"", " -" & 'Descrizione dei comportamenti'!J14,"") & IF('Descrizione dei comportamenti'!I15<>"", " -" & 'Descrizione dei comportamenti'!J15,"") & IF(OR('Descrizione dei comportamenti'!I16<>"",'Descrizione dei comportamenti'!L16<>""), " - " & 'Descrizione dei comportamenti'!L16,"") | W96: =IF('Descrizione dei comportamenti'!W13<>"",'Descrizione dei comportamenti'!W13,"")
A97: ='Descrizione dei comportamenti'!B19 -> Esecuzione delle consegne | L97: =IF('Descrizione dei comportamenti'!I20<>"", " -" & 'Descrizione dei comportamenti'!J20,"") & IF('Descrizione dei comportamenti'!I21<>"", " -" & 'Descrizione dei comportamenti'!J21,"") & IF('Descrizione dei comportamenti'!I22<>"", " -" & 'Descrizione dei comportamenti'!J22,"") & IF(OR('Descrizione dei comportamenti'!I23<>"",'Descrizione dei comportamenti'!L23<>""), " - " & 'Descrizione dei comportamenti'!L23,"") | W97: =IF('Descrizione dei comportamenti'!W20<>"",'Descrizione dei comportamenti'!W20,"")
A98: ='Descrizione dei comportamenti'!B26 -> Partecipazione alle lezioni | L98: =IF('Descrizione dei comportamenti'!I27<>"", " -" & 'Descrizione dei comportamenti'!J27,"") & IF('Descrizione dei comportamenti'!I28<>"", " -" & 'Descrizione dei comportamenti'!J28,"") & IF('Descrizione dei comportamenti'!I29<>"", " -" & 'Descrizione dei comportamenti'!J29,"") & IF(OR('Descrizione dei comportamenti'!I30<>"",'Descrizione dei comportamenti'!L30<>""), " - " & 'Descrizione dei comportamenti'!L30,"") | W98: =IF('Descrizione dei comportamenti'!W27<>"",'Descrizione dei comportamenti'!W27,"")
A99: ='Descrizione dei comportamenti'!B33 -> Pertinenza dell'intervento | L99: =IF('Descrizione dei comportamenti'!I34<>"", " -" & 'Descrizione dei comportamenti'!J34,"") & IF('Descrizione dei comportamenti'!I35<>"", " -" & 'Descrizione dei comportamenti'!J35,"") & IF('Descrizione dei comportamenti'!I36<>"", " -" & 'Descrizione dei comportamenti'!J36,"") & IF(OR('Descrizione dei comportamenti'!I37<>"",'Descrizione dei comportamenti'!L37<>""), " - " & 'Descrizione dei comportamenti'!L37,"") | W99: =IF('Descrizione dei comportamenti'!W34<>"",'Descrizione dei comportamenti'!W34,"")
A100: ='Descrizione dei comportamenti'!B40 -> Autonomia nel lavoro | L100: =IF('Descrizione dei comportamenti'!I41<>"", " -" & 'Descrizione dei comportamenti'!J41,"") & IF('Descrizione dei comportamenti'!I42<>"", " -" & 'Descrizione dei comportamenti'!J42,"") & IF('Descrizione dei comportamenti'!I43<>"", " -" & 'Descrizione dei comportamenti'!J43,"") & IF(OR('Descrizione dei comportamenti'!I44<>"",'Descrizione dei comportamenti'!L44<>""), " - " & 'Descrizione dei comportamenti'!L44,"") | W100: =IF('Descrizione dei comportamenti'!W41<>"",'Descrizione dei comportamenti'!W41,"")
A101: ='Descrizione dei comportamenti'!B47 -> Rispetto delle regole | L101: =IF('Descrizione dei comportamenti'!I48<>"", " -" & 'Descrizione dei comportamenti'!J48,"") & IF('Descrizione dei comportamenti'!I49<>"", " -" & 'Descrizione dei comportamenti'!J49,"") & IF('Descrizione dei comportamenti'!I50<>"", " -" & 'Descrizione dei comportamenti'!J50,"") & IF(OR('Descrizione dei comportamenti'!I51<>"",'Descrizione dei comportamenti'!L51<>""), " - " & 'Descrizione dei comportamenti'!L51,"") | W101: =IF('Descrizione dei comportamenti'!W48<>"",'Descrizione dei comportamenti'!W48,"")
A102: ='Descrizione dei comportamenti'!B54 -> Attenzione ai richiami dell'insegnante / educatore | L102: =IF('Descrizione dei comportamenti'!I55<>"", " -" & 'Descrizione dei comportamenti'!J55,"") & IF('Descrizione dei comportamenti'!I56<>"", " -" & 'Descrizione dei comportamenti'!J56,"") & IF('Descrizione dei comportamenti'!I57<>"", " -" & 'Descrizione dei comportamenti'!J57,"") & IF(OR('Descrizione dei comportamenti'!I58<>"",'Descrizione dei comportamenti'!L58<>""), " - " & 'Descrizione dei comportamenti'!L58,"") | W102: =IF('Descrizione dei comportamenti'!W55<>"",'Descrizione dei comportamenti'!W55,"")
A103: ='Descrizione dei comportamenti'!B61 -> Autocontrollo | L103: =IF('Descrizione dei comportamenti'!I62<>"", " -" & 'Descrizione dei comportamenti'!J62,"") & IF('Descrizione dei comportamenti'!I63<>"", " -" & 'Descrizione dei comportamenti'!J63,"") & IF('Descrizione dei comportamenti'!I64<>"", " -" & 'Descrizione dei comportamenti'!J64,"") & IF(OR('Descrizione dei comportamenti'!I65<>"",'Descrizione dei comportamenti'!L65<>""), " - " & 'Descrizione dei comportamenti'!L65,"") | W103: =IF('Descrizione dei comportamenti'!W62<>"",'Descrizione dei comportamenti'!W62,"")
A104: ='Descrizione dei comportamenti'!B68 -> Gestione delle frustrazioni | L104: =IF('Descrizione dei comportamenti'!I69<>"", " -" & 'Descrizione dei comportamenti'!J69,"") & IF('Descrizione dei comportamenti'!I70<>"", " -" & 'Descrizione dei comportamenti'!J70,"") & IF('Descrizione dei comportamenti'!I71<>"", " -" & 'Descrizione dei comportamenti'!J71,"") & IF(OR('Descrizione dei comportamenti'!I72<>"",'Descrizione dei comportamenti'!L72<>""), " - " & 'Descrizione dei comportamenti'!L72,"") | W104: =IF('Descrizione dei comportamenti'!W69<>"",'Descrizione dei comportamenti'!W69,"")
A105: ='Descrizione dei comportamenti'!B75 -> Partecipazione alle attività scolastiche | L105: =IF('Descrizione dei comportamenti'!I76<>"", " -" & 'Descrizione dei comportamenti'!J76,"") & IF('Descrizione dei comportamenti'!I77<>"", " -" & 'Descrizione dei comportamenti'!J77,"") & IF('Descrizione dei comportamenti'!I78<>"", " -" & 'Descrizione dei comportamenti'!J78,"") & IF(OR('Descrizione dei comportamenti'!I79<>"",'Descrizione dei comportamenti'!L79<>""), " - " & 'Descrizione dei comportamenti'!L79,"") | W105: =IF('Descrizione dei comportamenti'!W76<>"",'Descrizione dei comportamenti'!W76,"")
A106: ='Descrizione dei comportamenti'!B82 -> Relazione con i pari | L106: =IF('Descrizione dei comportamenti'!I83<>"", " -" & 'Descrizione dei comportamenti'!J83,"") & IF('Descrizione dei comportamenti'!I84<>"", " -" & 'Descrizione dei comportamenti'!J84,"") & IF('Descrizione dei comportamenti'!I85<>"", " -" & 'Descrizione dei comportamenti'!J85,"") & IF(OR('Descrizione dei comportamenti'!I86<>"",'Descrizione dei comportamenti'!L86<>""), " - " & 'Descrizione dei comportamenti'!L86,"") | W106: =IF('Descrizione dei comportamenti'!W83<>"",'Descrizione dei comportamenti'!W83,"")
A107: ='Descrizione dei comportamenti'!B89 -> Svolgimento regolare dei compiti a casa | L107: =IF('Descrizione dei comportamenti'!I90<>"", " -" & 'Descrizione dei comportamenti'!J90,"") & IF('Descrizione dei comportamenti'!I91<>"", " -" & 'Descrizione dei comportamenti'!J91,"") & IF('Descrizione dei comportamenti'!I92<>"", " -" & 'Descrizione dei comportamenti'!J92,"") & IF(OR('Descrizione dei comportamenti'!I93<>"",'Descrizione dei comportamenti'!L93<>""), " - " & 'Descrizione dei comportamenti'!L93,"") | W107: =IF('Descrizione dei comportamenti'!W90<>"",'Descrizione dei comportamenti'!W90,"")
A108: ='Descrizione dei comportamenti'!B96 -> Porta a scuola i materiali necessari | L108: =IF('Descrizione dei comportamenti'!I97<>"", " -" & 'Descrizione dei comportamenti'!J97,"") & IF('Descrizione dei comportamenti'!I98<>"", " -" & 'Descrizione dei comportamenti'!J98,"") & IF('Descrizione dei comportamenti'!I99<>"", " -" & 'Descrizione dei comportamenti'!J99,"") & IF(OR('Descrizione dei comportamenti'!I100<>"",'Descrizione dei comportamenti'!L100<>""), " - " & 'Descrizione dei comportamenti'!L100,"") | W108: =IF('Descrizione dei comportamenti'!W97<>"",'Descrizione dei comportamenti'!W97,"")
A109: ='Descrizione dei comportamenti'!B103 -> Cura dei materiali (propri e della scuola) | L109: =IF('Descrizione dei comportamenti'!I104<>"", " -" & 'Descrizione dei comportamenti'!J104,"") & IF('Descrizione dei comportamenti'!I105<>"", " -" & 'Descrizione dei comportamenti'!J105,"") & IF('Descrizione dei comportamenti'!I106<>"", " -" & 'Descrizione dei comportamenti'!J106,"") & IF(OR('Descrizione dei comportamenti'!I107<>"",'Descrizione dei comportamenti'!L107<>""), " - " & 'Descrizione dei comportamenti'!L107,"") | W109: =IF('Descrizione dei comportamenti'!W104<>"",'Descrizione dei comportamenti'!W104,"")
A110: =IF('Descrizione dei comportamenti'!B112<>"",'Descrizione dei comportamenti'!B112,"") | L110: =IF('Descrizione dei comportamenti'!I111<>"", " -" & 'Descrizione dei comportamenti'!J111,"") & IF('Descrizione dei comportamenti'!I112<>"", " -" & 'Descrizione dei comportamenti'!J112,"") & IF('Descrizione dei comportamenti'!I113<>"", " -" & 'Descrizione dei comportamenti'!J113,"") & IF(OR('Descrizione dei comportamenti'!I114<>"",'Descrizione dei comportamenti'!L114<>""), " - " & 'Descrizione dei comportamenti'!L114,"") | W110: =IF('Descrizione dei comportamenti'!W111<>"",'Descrizione dei comportamenti'!W111,"")
A111: =IF(Modulo!A$1<>"",Modulo!A$1,"") -> Istituto Comprensivo Statale Pietrasanta 2 | AI111: =B$15 & " di " & B$24 -> Piano Didattico Personalizzato di
A115: ='Abilità strumentali'!A9 -> LETTURA
L116: Dati rilevabili da osservazioni in classe | W116: Dati rilevabili da diagnosi specialistica
A117: ='Abilità strumentali'!B12 -> Velocità | L117: =IF('Abilità strumentali'!I13<>""," -" & 'Abilità strumentali'!J13,"") & IF('Abilità strumentali'!I14<>""," -" & 'Abilità strumentali'!J14,"") & IF('Abilità strumentali'!I15<>""," -" & 'Abilità strumentali'!J15,"") & IF(OR('Abilità strumentali'!I16<>"",'Abilità strumentali'!L16<>"")," - " & 'Abilità strumentali'!L16,"") | W117: =IF('Abilità strumentali'!V13<>"",'Abilità strumentali'!V13,"")
A118: ='Abilità strumentali'!B19 -> Correttezza | L118: =IF('Abilità strumentali'!I20<>"",'Abilità strumentali'!J20,IF('Abilità strumentali'!I21<>"",'Abilità strumentali'!J21 & IF(COUNTBLANK('Abilità strumentali'!J23:J27)<5," (" & 'Abilità strumentali'!J22 & IF('Abilità strumentali'!J23<>"",'Abilità strumentali'!K23,"") & IF('Abilità strumentali'!J24<>"",'Abilità strumentali'!K24,"") & IF('Abilità strumentali'!J25<>"",'Abilità strumentali'!K25,"") & IF('Abilità strumentali'!J26<>"",'Abilità strumentali'!K26,"") & IF('Abilità strumentali'!M27<>"",'Abilità strumentali'!M27,"") & 'Abilità strumentali'!Q23 & ")",""),"")) | W118: =IF('Abilità strumentali'!V20<>"",'Abilità strumentali'!V20,"")
A119: ='Abilità strumentali'!B30 -> Comprensione | L119: =IF('Abilità strumentali'!I31<>""," -" & 'Abilità strumentali'!J31,"") & IF('Abilità strumentali'!I32<>""," -" & 'Abilità strumentali'!J32,"") & IF('Abilità strumentali'!I33<>""," -" & 'Abilità strumentali'!J33,"") & IF('Abilità strumentali'!I34<>""," -" & 'Abilità strumentali'!J34,"") & IF(OR('Abilità strumentali'!I35<>"",'Abilità strumentali'!L35<>"")," - " & 'Abilità strumentali'!L35,"") | W119: =IF('Abilità strumentali'!V31<>"",'Abilità strumentali'!V31,"")
A120: =IF('Abilità strumentali'!B40<>"",'Abilità strumentali'!B40,"") | L120: =IF('Abilità strumentali'!L39<>"",'Abilità strumentali'!L39,"") | W120: =IF('Abilità strumentali'!V39<>"",'Abilità strumentali'!V39,"")
A122: ='Abilità strumentali'!A46 -> SCRITTURA
C123: ='Abilità strumentali'!B48 -> Sotto dettatura | L123: Dati rilevabili da osservazioni in classe | W123: Dati rilevabili da diagnosi specialistica
A124: ='Abilità strumentali'!B49 -> Produzione | L124: =IF('Abilità strumentali'!I50<>""," -" & 'Abilità strumentali'!J50,"") & IF('Abilità strumentali'!I51<>""," -" & 'Abilità strumentali'!J51,"") & IF('Abilità strumentali'!I52<>""," -" & 'Abilità strumentali'!J52,"") & IF(OR('Abilità strumentali'!I53<>"",'Abilità strumentali'!L53)," - " & 'Abilità strumentali'!L53,"") | W124: =IF('Abilità strumentali'!V50<>"",'Abilità strumentali'!V50,"")
A125: ='Abilità strumentali'!B56 -> Errori tipici | L125: =IF('Abilità strumentali'!I57<>""," -" & 'Abilità strumentali'!J57,"") & IF('Abilità strumentali'!I58<>""," -" & 'Abilità strumentali'!J58,"") & IF('Abilità strumentali'!I59<>""," -" & 'Abilità strumentali'!J59,"") & IF(OR('Abilità strumentali'!I60<>"",'Abilità strumentali'!L60)," - " & 'Abilità strumentali'!L60,"") | W125: =IF('Abilità strumentali'!V57<>"",'Abilità strumentali'!V57,"")
A126: =IF('Abilità strumentali'!B65<>"",'Abilità strumentali'!B65,"") | L126: =IF('Abilità strumentali'!L64<>"",'Abilità strumentali'!L64,"") | W126: =IF('Abilità strumentali'!V64<>"",'Abilità strumentali'!V64,"")
C128: ='Abilità strumentali'!B70 -> Produzione autonoma | L128: Dati rilevabili da osservazioni in classe | W128: Dati rilevabili da diagnosi specialistica
A129: ='Abilità strumentali'!B71 -> Aderenza consegna | L129: =IF('Abilità strumentali'!I72<>""," -" & 'Abilità strumentali'!J72,"") & IF('Abilità strumentali'!I73<>""," -" & 'Abilità strumentali'!J73,"") & IF('Abilità strumentali'!I74<>""," -" & 'Abilità strumentali'!J74,"") & IF(OR('Abilità strumentali'!I75<>"",'Abilità strumentali'!L75)," - " & 'Abilità strumentali'!L75,"") | W129: =IF('Abilità strumentali'!V72<>"",'Abilità strumentali'!V72,"")
A130: ='Abilità strumentali'!B78 -> Correttezza morfo-sintattica | L130: =IF('Abilità strumentali'!I79<>""," -" & 'Abilità strumentali'!J79,"") & IF('Abilità strumentali'!I80<>""," -" & 'Abilità strumentali'!J80,"") & IF('Abilità strumentali'!I81<>""," -" & 'Abilità strumentali'!J81,"") & IF(OR('Abilità strumentali'!I82<>"",'Abilità strumentali'!L82)," - " & 'Abilità strumentali'!L82,"") | W130: =IF('Abilità strumentali'!V79<>"",'Abilità strumentali'!V79,"")
A131: ='Abilità strumentali'!B85 -> Correttezza struttura testuale (narrativo, descrittivo, regolativo…) | L131: =IF('Abilità strumentali'!I86<>""," -" & 'Abilità strumentali'!J86,"") & IF('Abilità strumentali'!I87<>""," -" & 'Abilità strumentali'!J87,"") & IF('Abilità strumentali'!I88<>""," -" & 'Abilità strumentali'!J88,"") & IF(OR('Abilità strumentali'!I89<>"",'Abilità strumentali'!L89)," - " & 'Abilità strumentali'!L89,"") | W131: =IF('Abilità strumentali'!V86<>"",'Abilità strumentali'!V86,"")
A132: ='Abilità strumentali'!B92 -> Correttezza ortografica | L132: =IF('Abilità strumentali'!I93<>""," -" & 'Abilità strumentali'!J93,"") & IF('Abilità strumentali'!I94<>""," -" & 'Abilità strumentali'!J94,"") & IF('Abilità strumentali'!I95<>""," -" & 'Abilità strumentali'!J95,"") & IF(OR('Abilità strumentali'!I96<>"",'Abilità strumentali'!L96)," - " & 'Abilità strumentali'!L96,"") | W132: =IF('Abilità strumentali'!V93<>"",'Abilità strumentali'!V93,"")
A133: ='Abilità strumentali'!B99 -> Uso punteggiatura | L133: =IF('Abilità strumentali'!I100<>""," -" & 'Abilità strumentali'!J100,"") & IF('Abilità strumentali'!I101<>""," -" & 'Abilità strumentali'!J101,"") & IF('Abilità strumentali'!I102<>""," -" & 'Abilità strumentali'!J102,"") & IF(OR('Abilità strumentali'!I103<>"",'Abilità strumentali'!L103)," - " & 'Abilità strumentali'!L103,"") | W133: =IF('Abilità strumentali'!V100<>"",'Abilità strumentali'!V100,"")
A134: =IF('Abilità strumentali'!B108<>"",'Abilità strumentali'!B108,"") | L134: =IF('Abilità strumentali'!L107<>"",'Abilità strumentali'!L107,"") | W134: =IF('Abilità strumentali'!V107<>"",'Abilità strumentali'!V107,"")
C136: ='Abilità strumentali'!B113 -> Grafia | L136: Dati rilevabili da osservazioni in classe | W136: Dati rilevabili da diagnosi specialistica
A137: ='Abilità strumentali'!B114 -> Leggibile | L137: =IF('Abilità strumentali'!I115<>""," -" & 'Abilità strumentali'!J115,"") & IF('Abilità strumentali'!I116<>""," -" & 'Abilità strumentali'!J116,"") & IF('Abilità strumentali'!I117<>""," -" & 'Abilità strumentali'!J117,"") & IF(OR('Abilità strumentali'!I118<>"",'Abilità strumentali'!L118)," - " & 'Abilità strumentali'!L118,"") | W137: =IF('Abilità strumentali'!V115<>"",'Abilità strumentali'!V115,"")
A138: ='Abilità strumentali'!B121 -> Tratto | L138: =IF('Abilità strumentali'!I122<>""," -" & 'Abilità strumentali'!J122,"") & IF('Abilità strumentali'!I123<>""," -" & 'Abilità strumentali'!J123,"") & IF('Abilità strumentali'!I124<>""," -" & 'Abilità strumentali'!J124,"") & IF('Abilità strumentali'!I125<>""," -" & 'Abilità strumentali'!J125,"") & IF(OR('Abilità strumentali'!I126<>"",'Abilità strumentali'!L126)," - " & 'Abilità strumentali'!L126,"") | W138: =IF('Abilità strumentali'!V122<>"",'Abilità strumentali'!V122,"")
A139: ='Abilità strumentali'!B129 -> Impugnatura | L139: =IF('Abilità strumentali'!I130<>""," -" & 'Abilità strumentali'!J130,"") & IF('Abilità strumentali'!I131<>""," -" & 'Abilità strumentali'!J131,"") & IF(OR('Abilità strumentali'!I132<>"",'Abilità strumentali'!L132)," - " & 'Abilità strumentali'!L132,"") | W139: =IF('Abilità strumentali'!V130<>"",'Abilità strumentali'!V130,"")
A140: ='Abilità strumentali'!B135 -> Direzionalità del tratto | L140: =IF('Abilità strumentali'!I136<>""," -" & 'Abilità strumentali'!J136,"") & IF('Abilità strumentali'!I137<>""," -" & 'Abilità strumentali'!J137,"") & IF(OR('Abilità strumentali'!I138<>"",'Abilità strumentali'!L138)," - " & 'Abilità strumentali'!L138,"") | W140: =IF('Abilità strumentali'!V136<>"",'Abilità strumentali'!V136,"")
A141: =IF('Abilità strumentali'!B143<>"",'Abilità strumentali'!B143,"") | L141: =IF('Abilità strumentali'!L142<>"",'Abilità strumentali'!L142,"") | W141: =IF('Abilità strumentali'!V142<>"",'Abilità strumentali'!V142,"")
A142: =IF(Modulo!A$1<>"",Modulo!A$1,"") -> Istituto Comprensivo Statale Pietrasanta 2 | AI142: =B$15 & " di " & B$24 -> Piano Didattico Personalizzato di
A144: ='Abilità strumentali'!A149 -> CALCOLO
L145: Dati rilevabili da osservazioni in classe | W145: Dati rilevabili da diagnosi specialistica
A146: ='Abilità strumentali'!B152 -> Difficoltà visuospaziali (es:quantificazione automatizzata) | L146: =IF('Abilità strumentali'!I153<>""," -" & 'Abilità strumentali'!J153,"") & IF('Abilità strumentali'!I154<>""," -" & 'Abilità strumentali'!J154,"") & IF('Abilità strumentali'!I155<>""," -" & 'Abilità strumentali'!J155,"") & IF(OR('Abilità strumentali'!I156<>"",'Abilità strumentali'!L156)," - " & 'Abilità strumentali'!L156,"") | W146: =IF('Abilità strumentali'!V153<>"",'Abilità strumentali'!V153,"")
...

Sheet Pre-Stampa
G2: Attenzione !!!

Sheet HOME
D3: di
D5: cognome | R5: nome
Y8: Anno Scolastico: | Z8: 2026 | AC8: =IF(Z8<>""," - " & Z8+1,"") -> - 2027
Z9: inizio anno
K13: Luogo di compilazione | L13: Pietrasanta | Y13: Data di compilazione | AA13: / | AC13: /
Z14: gg | AB14: mm | AD14: aaaa
I16: Durata del PDP | M16: Anno Scolastico | T16: Periodo limitato
R18: dal | T18: / | V18: / | Y18: al | AA18: / | AC18: /
S19: gg | U19: mm | W19: aaaa | Z19: gg | AB19: mm | AD19: aaaa
E23: Impostazione documento
D24: 1. | E24: INFORMAZIONI GENERALI
D25: 2. | E25: CARATTERISTICHE DEL PROCESSO DI APPRENDIMENTO
D26: 3. | E26: DESCRIZIONE DEI COMPORTAMENTI
D27: 4. | E27: ABILITÀ STRUMENTALI
D28: 5. | E28: ALTRE INFORMAZIONI
D29: 6. | E29: INTERVENTI EDUCATIVI E DIDATTICI (strumenti compensativi e misure dispensative)
D30: 7. | E30: PATTO EDUCATIVO
X32: Strutturato nell'A.S. 2016-2017
X33: dall'insegn. DAMIANO Raffaele

Sheet Istituto
AB4: =IF(HOME!$Z$8<>"","Anno Scolastico:","") -> Anno Scolastico: | AC4: =IF(HOME!$Z$8<>"",HOME!$Z$8 & HOME!$AC$8,"") -> 2026 - 2027
B5: ISTITUTO
C7: Istituto Comprensivo Statale
C8: Denominazione
C10: Pietrasanta 2 | T10: LUIC850009
C11: Nome | T11: Cod. Meccanografico
C13: Beato Angelico, 6 | P13: 55045 | T13: Pietrasanta | AG13: LU
C14: Indirizzo | P14: c.a.p. | T14: Comune | AG14: Prov.
C16: 0584 745924 | W16: luic850009@istruzione.it
C17: Telefono | M17: Fax | W17: E-mail
C19: Prof.ssa Barbara Caterini
C20: Dirigente

Sheet Plesso
AB4: =IF(HOME!$Z$8<>"","Anno Scolastico:","") -> Anno Scolastico: | AC4: =IF(HOME!$Z$8<>"",HOME!$Z$8 & HOME!$AC$8,"") -> 2026 - 2027
B5: PLESSO
C7: Scuola Statale
C8: Denominazione
T10: LUIC850009
C11: Nome | T11: Cod. Meccanografico
P13: 55045 | T13: Pietrasanta | AG13: LU
C14: Indirizzo | P14: c.a.p. | T14: Comune | AG14: Prov.
W16: LUIC850009@ISTRUZIONE.IT
C17: Telefono | M17: Fax | W17: E-mail
C20: Capo plesso

Sheet Modulo
A1: =Stampa!J2 & " " & Stampa!J3 -> Istituto Comprensivo Statale Pietrasanta 2 | AI1: =Stampa!J37 & " " & Stampa!J38 -> Scuola Statale
R2: =Stampa!M14 & " " & Stampa!M18 -> P.D.P. 2026 - 2027
C4: =IF(AH4="F","Alunna","Alunno") -> Alunno | D4: =IF(HOME!D4<>"",HOME!D4,"") | R4: =IF(HOME!R4<>"",HOME!R4,"") | AG4: sesso
D5: cognome | R5: nome | AH5: M/F
C7: =IF(AH4="F","nata il","nato il") -> nato il | E7: / | G7: / | K7: a | Z7: nazionalità
D8: gg | F8: mm | H8: aaaa | L8: comune di nascita
C10: Classe | G10: Sez. | P10: tempo scuola di | S10: / | V10: ore settimanali(1) | AG10: n. alunni classe
P11: dell'alunno/della classe
A13: Il curriculum scolastico risulta | L13: regolare | R13: non regolare
A15: ="(1) Se l'orario dell'" & IF(AH4="F","alunna","alunno") & " è ridotto, spiegare le motivazioni e/o le attività svolte in quelle ore in cui non è presente a scuola." -> (1) Se l'orario dell'alunno è ridotto, spiegare le motivazioni e/o le attività svolte in quelle ore in cui non è presente a scuola.
A21: TIPOLOGIA DI BISOGNO EDUCATIVO SPECIALE
C23: Disturbo evolutivi specifici (DSA)
C24: Disturbo evolutivi specifici (non DSA)
C25: Disturbo da Deficit di Attenzione/Iperattività (ADHD)
C26: Disturbo Oppositivo Provocatorio (DOP)
C27: Disturbi del comportamento
C28: Funzionamento Intellettivo Limite
C29: Difficoltà derivanti dalla non conoscenza della cultura e della lingua italiana
C30: Situazioni particolari
A34: INDIVIDUAZIONE DELLA SITUAZIONE DI BISOGNO EDUCATIVO SPECIALE
B36: Rilasciata da:
C37: SERVIZIO SANITARIO NAZIONALE - Diagnosi / Relazione multi professionale
C38: ALTRO SERVIZIO (diagnosi rilasciata da privati)
C39: CONSIGLIO DI CLASSE / TEAM DOCENTI - Relazione (da allegare)
E41: Codice ICD10
F42: codice | I42: diagnosi
E44: Redatta da | AB44: in data | AD44: / | AF44: /
AC45: gg | AE45: mm | AG45: aaaa
A49: PARTI COINVOLTE
B51: DOCENTI
C53: Cognome | J53: Nome | R53: Disciplina/e
B80: GENITORI / TUTORI
C82: Cognome | J82: Nome | R82: Grado di parentela
A91: COMPILAZIONE
AC102: Data di compilazione: | AD102: =IF(HOME!Z13<>"",HOME!Z13,"") | AE102: / | AF102: =IF(HOME!AB13<>"",HOME!AB13,"") | AG102: / | AH102: =IF(HOME!AD13<>"",HOME!AD13,"")
AD103: gg | AF103: mm | AH103: aaaa
AC104: Luogo di compilazione: | AD104: =IF(HOME!L13<>"",HOME!L13,"") -> Pietrasanta

Sheet Processo di apprendimento
A1: =Stampa!J2 & " " & Stampa!J3 -> Istituto Comprensivo Statale Pietrasanta 2 | AI1: =Stampa!J37 & " " & Stampa!J38 -> Scuola Statale
S2: PROCESSO DI APPRENDIMENTO
C4: =IF(Modulo!AH4="F","Alunna","Alunno") -> Alunno | D4: =IF(HOME!D4<>"",HOME!D4,"") | T4: =IF(HOME!R4<>"",HOME!R4,"")
D5: cognome | T5: nome
A9: CARATTERISTICHE DEL PROCESSO DI APPRENDIMENTO
H11: Dati rilevabili da osservazioni in classe | V11: Dati rilevabili da diagnosi specialistica
B12: Proprietà linguistica
J13: nessuna difficoltà
J14: difficoltà morfologica
J15: difficoltà sintattica
J16: difficoltà lessicale
J17: difficoltà globale nell'esposizione orale
J18: altro…
B21: Memoria
J22: nessuna difficoltà
J23: diff. nel memorizzare categorizzazioni
J24: diff. nel memorizzare sequenze e procedure
J25: diff. nel memorizzare formule, strutture grammaticali, algoritmi (tabelline, nomi…)
J27: altro…
B30: Attenzione
J31: nessuna difficoltà
J32: difficoltà nell'attenzione divisa
J33: difficoltà nell'attenzione selettiva
J34: difficoltà nell'attenzione sostenuta
J35: altro…
B38: Affaticabilità
J39: sì
J40: poca
J41: no
J42: altro…
B45: Prassie
J46: nessuna difficoltà
J47: difficoltà di esecuzione
J48: difficoltà di pianificazione
J49: difficoltà programmazione e progettazione
J50: altro…
A57: MOTIVAZIONE
H59: Dati rilevabili da osservazioni in classe | V59: Dati rilevabili da diagnosi specialistica
B60: Partecipazione al dialogo educativo
J61: molto adeguata
J62: adeguata
J63: poco adeguata
J64: non adeguata
J65: altro…
B68: Consapevolezza delle proprie difficoltà
J69: molto adeguata
J70: adeguata
J71: poco adeguata
J72: non adeguata
J73: altro…
B76: Consapevolezza dei propri punti di forza
J77: molto adeguata
J78: adeguata
J79: poco adeguata
J80: non adeguata
J81: altro…
B84: Autostima
J85: molto adeguata
J86: adeguata
J87: poco adeguata
J88: non adeguata
J89: altro…
B92: Altro…
J93: molto adeguata
J94: adeguata
J95: poco adeguata
J96: non adeguata
J97: altro…

Sheet Descrizione dei comportamenti
A1: =Stampa!J2 & " " & Stampa!J3 -> Istituto Comprensivo Statale Pietrasanta 2 | AI1: =Stampa!J37 & " " & Stampa!J38 -> Scuola Statale
S2: DESCRIZIONE DEI COMPORTAMENTI
C4: =IF(Modulo!AH4="F","Alunna","Alunno") -> Alunno | D4: =IF(HOME!D4<>"",HOME!D4,"") | T4: =IF(HOME!R4<>"",HOME!R4,"")
D5: cognome | T5: nome
A9: DESCRIZIONE DEI COMPORTAMENTI
H11: Dati rilevabili da osservazioni in classe | V11: Dati rilevabili da diagnosi specialistica
B12: Comprensione delle consegne
J13: non evidenzia particolari problematicità
J14: evidenzia problematicità lievi o occasionali
J15: evidenzia problematicità rilevanti o reiterate
J16: altro…
B19: Esecuzione delle consegne
J20: non evidenzia particolari problematicità
J21: evidenzia problematicità lievi o occasionali
J22: evidenzia problematicità rilevanti o reiterate
J23: altro…
B26: Partecipazione alle lezioni
J27: non evidenzia particolari problematicità
J28: evidenzia problematicità lievi o occasionali
J29: evidenzia problematicità rilevanti o reiterate
J30: altro…
B33: Pertinenza dell'intervento
J34: non evidenzia particolari problematicità
J35: evidenzia problematicità lievi o occasionali
J36: evidenzia problematicità rilevanti o reiterate
J37: altro…
B40: Autonomia nel lavoro
J41: non evidenzia particolari problematicità
J42: evidenzia problematicità lievi o occasionali
J43: evidenzia problematicità rilevanti o reiterate
J44: altro…
B47: Rispetto delle regole
J48: non evidenzia particolari problematicità
J49: evidenzia problematicità lievi o occasionali
J50: evidenzia problematicità rilevanti o reiterate
J51: altro…
B54: Attenzione ai richiami dell'insegnante / educatore
J55: non evidenzia particolari problematicità
J56: evidenzia problematicità lievi o occasionali
J57: evidenzia problematicità rilevanti o reiterate
J58: altro…
B61: Autocontrollo
J62: non evidenzia particolari problematicità
J63: evidenzia problematicità lievi o occasionali
J64: evidenzia problematicità rilevanti o reiterate
J65: altro…
B68: Gestione delle frustrazioni
J69: non evidenzia particolari problematicità
J70: evidenzia problematicità lievi o occasionali
J71: evidenzia problematicità rilevanti o reiterate
J72: altro…
B75: Partecipazione alle attività scolastiche
J76: non evidenzia particolari problematicità
J77: evidenzia problematicità lievi o occasionali
J78: evidenzia problematicità rilevanti o reiterate
J79: altro…
B82: Relazione con i pari
J83: non evidenzia particolari problematicità
J84: evidenzia problematicità lievi o occasionali
J85: evidenzia problematicità rilevanti o reiterate
J86: altro…
B89: Svolgimento regolare dei compiti a casa
J90: non evidenzia particolari problematicità
J91: evidenzia problematicità lievi o occasionali
J92: evidenzia problematicità rilevanti o reiterate
J93: altro…
B96: Porta a scuola i materiali necessari
J97: non evidenzia particolari problematicità
J98: evidenzia problematicità lievi o occasionali
J99: evidenzia problematicità rilevanti o reiterate
J100: altro…
B103: Cura dei materiali (propri e della scuola)
J104: non evidenzia particolari problematicità
J105: evidenzia problematicità lievi o occasionali
J106: evidenzia problematicità rilevanti o reiterate
J107: altro…
B110: Altro…
J111: non evidenzia particolari problematicità
J112: evidenzia problematicità lievi o occasionali
J113: evidenzia problematicità rilevanti o reiterate
J114: altro…

Sheet Abilità strumentali
A1: =Stampa!J2 & " " & Stampa!J3 -> Istituto Comprensivo Statale Pietrasanta 2 | AI1: =Stampa!J37 & " " & Stampa!J38 -> Scuola Statale
R2: ABILITÀ STRUMENTALI
C4: =IF(Modulo!AH4="F","Alunna","Alunno") -> Alunno | D4: =IF(HOME!D4<>"",HOME!D4,"") | T4: =IF(HOME!R4<>"",HOME!R4,"")
D5: cognome | T5: nome
A9: LETTURA
H11: Dati rilevabili da osservazioni in classe | U11: Dati rilevabili da diagnosi specialistica
B12: Velocità
J13: scorrevole
J14: lenta
J15: molto lenta
J16: altro…
B19: Correttezza
J20: adeguata
J21: non adeguata
J22: =IF(I21<>"","presenta:","")
K23: =IF(I$21<>""," confusioni","") | O23: =IF(I21<>"","}","") | Q23: =IF(I$21<>""," di lettere o sillabe","")
K24: =IF(I$21<>""," inversioni","")
K25: =IF(I$21<>""," sostituzioni","")
K26: =IF(I$21<>""," omissioni","")
K27: =IF(I21<>""," altro…","")
B30: Comprensione
J31: completa - analitica
J32: globale
J33: essenziale
J34: scarsa
J35: altro…
B38: Altro…
A46: SCRITTURA
B48: Sotto dettatura | H48: Dati rilevabili da osservazioni in classe | U48: Dati rilevabili da diagnosi specialistica
B49: Produzione
J50: corretta
J51: poco corretta
J52: scorretta
J53: altro…
B56: Errori tipici
J57: fonologici
J58: non fonologici
J59: fonetici
J60: altro…
B63: Altro…
B70: Produzione autonoma | J70: Dati rilevabili da osservazioni in classe | U70: Dati rilevabili da diagnosi specialistica
B71: Aderenza consegna
J72: spesso
J73: talvolta
J74: mai
J75: altro…
B78: Correttezza morfo-sintattica
J79: spesso
J80: talvolta
J81: mai
J82: altro…
B85: Correttezza struttura testuale (narrativo, descrittivo, regolativo…)
J86: spesso
J87: talvolta
J88: mai
J89: altro…
B92: Correttezza ortografica
J93: adeguata
J94: parziale
J95: non adeguata
J96: altro…
B99: Uso punteggiatura
J100: adeguata
J101: parziale
J102: non adeguata
J103: altro…
B106: Altro…
B113: Grafia | H113: Dati rilevabili da osservazioni in classe | U113: Dati rilevabili da diagnosi specialistica
B114: Leggibile
J115: sì
J116: poco
J117: no
J118: altro…
B121: Tratto
J122: leggero
J123: premuto
J124: ripassato
J125: incerto
J126: altro…
B129: Impugnatura
J130: corretta
J131: scorretta
J132: altro…
B135: Direzionalità del tratto
J136: convenzionale
J137: non convenzionale
J138: altro…
B141: Altro…
A149: CALCOLO
H151: Dati rilevabili da osservazioni in classe | U151: Dati rilevabili da diagnosi specialistica
B152: Difficoltà visuospaziali (es:quantificazione automatizzata)
J153: spesso
J154: talvolta
J155: mai
J156: altro…
B159: Recupero di fatti numerici (es: tabelline)
J160: raggiunto
J161: parziale
J162: non raggiunto
J163: altro…
...

Sheet Altre informazioni
A1: =Stampa!J2 & " " & Stampa!J3 -> Istituto Comprensivo Statale Pietrasanta 2 | AI1: =Stampa!J37 & " " & Stampa!J38 -> Scuola Statale
R2: ALTRE INFORMAZIONI
C4: =IF(Modulo!AH4="F","Alunna","Alunno") -> Alunno | D4: =IF(HOME!D4<>"",HOME!D4,"") | T4: =IF(HOME!R4<>"",HOME!R4,"")
D5: cognome | T5: nome
A9: ALTRE INFORMAZIONI…
B11: Dati rilevabili da osservazioni in classe | S11: Dati rilevabili da diagnosi specialistica

Sheet Interventi educativi-didattici
A1: =Stampa!J2 & " " & Stampa!J3 -> Istituto Comprensivo Statale Pietrasanta 2 | AI1: =Stampa!J37 & " " & Stampa!J38 -> Scuola Statale
R2: INTERVENTI EDUCATIVI E DIDATTICI
R3: STRATEGIE DI PERSONALIZZAZIONE / INDIVIDUALIZZAZIONE
C5: =IF(Modulo!AH4="F","Alunna","Alunno") -> Alunno | D5: =IF(HOME!D4<>"",HOME!D4,"") | T5: =IF(HOME!R4<>"",HOME!R4,"")
D6: cognome | T6: nome
A10: MISURE DISPENSATIVE (legge 170/10 e linee guida 12/07/2011)
E13: Dispensa dalla lettura ad alta voce in classe
E16: Dispensa dall’uso dei quattro caratteri di scrittura
E19: Dispensa dall’uso del corsivo e dello stampato minuscolo
E22: Dispensa dalla scrittura sotto dettatura di testi e/o appunti
E25: Dispensa dal ricopiare testi o espressioni matematiche dalla lavagna
E28: Dispensa dallo studio mnemonico delle tabelline, delle forme verbali, delle poesie
E31: Dispensa dall’utilizzo di tempi standard
E34: Riduzione delle consegne senza modificare gli obiettivi
E37: Dispensa da un eccessivo carico di compiti con riadattamento e riduzione delle pagine da studiare, senza modificare gli obiettivi
E41: Dispensa dalla sovrapposizione di compiti e interrogazioni di più materie
E44: Dispensa parziale dallo studio della lingua straniera in forma scritta, che verrà valutata in percentuale minore rispetto all’orale non considerando errori ortografici e di spelling
E48: Altro…
A56: STRUMENTI COMPENSATIVI (legge 170/10 e linee guida 12/07/2011)
E59: Utilizzo di computer e tablet
E62: Utilizzo di programmi di video-scrittura con correttore ortografico (possibilmente vocale) e con tecnologie di sintesi vocale (anche per le lingue straniere)
E66: Utilizzo di risorse audio (file audio digitali, audiolibri…).
E69: Utilizzo del registratore digitale o di altri strumenti di registrazione per uso personale
E72: Utilizzo di ausili per il calcolo (tavola pitagorica, linee dei numeri…) ed eventualmente della calcolatrice con foglio di calcolo (possibilmente calcolatrice vocale)
E76: Utilizzo di schemi, tabelle, mappe e diagrammi di flusso come supporto alle varie discipline
E79: Utilizzo di mappe e schemi durante le interrogazioni, eventualmente anche su supporto digitalizzato (presentazioni multimediali), per facilitare il recupero delle informazioni
E83: Utilizzo di schemi di sviluppo per la produzione scritta
E86: Utilizzo di software didattici e compensativi (free e/o commerciali)
E89: Utilizzo di libri digitali
E92: Utilizzo di penne con impugnatura ergonomica
E95: Definizione di poche, ma chiare regole di comportamento in classe
... E107: Altro…
A115: MODALITÀ DI SVOLGIMENTO DELLE PROVE DI VERIFICA
B117: PROVE SCRITTE
E119: Utilizzo di schemi, tavole, mappe e di ogni altro strumento compensativo della memoria
E122: Lettura della consegna
E125: Uso della calcolatrice, di tavole pitagoriche, formulari, tabelle
E128: Prove strutturate con risposta a scelta multipla
E131: Riduzione quantitativa della consegna
E134: Tempi più lunghi per lo svolgimento della prova
E137: Evitare verifiche su linguaggi specifici, definizioni a carattere puramente mnemonico
E140: Comunicazione chiara dei tempi necessari per l'esecuzione del compito
E143: Invito a controllare accuratamente il proprio compito prima di consegnarlo
E146: Altro…
B152: PROVE ORALI
E154: Sincerarsi che abbia ascoltato e capito la domanda
E157: Utilizzo di mappe, schemi e ogni altro strumento compensativo della memoria
E160: Programmazione delle interrogazioni
E163: Utilizzo di prove orali a compensazione di quelle scritte
E166: Altro…
A174: OBIETTIVI DISCIPLINARI PERSONALIZZATI (se necessari)
A191: MODALITÀ DI VALUTAZIONE
B193: CRITERI DI CORREZIONE DELLE PROVE SCRITTE
E195: Valutazione del contenuto e non degli errori ortografici
E198: Non considerare gli errori di spelling
E201: Non considerare gli errori di calcolo nella risoluzione di problemi ma valutare il procedimento
E204: Altro…
B210: CRITERI DI VALUTAZIONE ADOTTATI (l'insegnante considera anche…)
E212: Progressi e sforzi compiuti
E215: Altro…

Sheet Patto educativo
A1: =Stampa!J2 & " " & Stampa!J3 -> Istituto Comprensivo Statale Pietrasanta 2 | AI1: =Stampa!J37 & " " & Stampa!J38 -> Scuola Statale
R2: PATTO EDUCATIVO
R3: Si concorda con la famiglia e lo studente
C5: =IF(Modulo!AH4="F","Alunna","Alunno") -> Alunno | D5: =IF(HOME!D4<>"",HOME!D4,"") | T5: =IF(HOME!R4<>"",HOME!R4,"")
D6: cognome | T6: nome
A10: NELLE ATTIVITÀ DI STUDIO, L'ALLIEVO:
E13: è seguito da un Tutor nelle seguenti discipline:
F16: con cadenza | L16: quotidiana | R16: bisettimanale | X16: settimanale | AD16: quindicinale
E19: è seguito da familiari
E22: ricorre all’aiuto di compagni
E25: utilizza strumenti compensativi
E28: Altro…
A36: STRUMENTI DA UTILIZZARE NEL LAVORO A CASA
E39: strumenti informatici (pc, videoscrittura con correttore ortografico,…)
E42: tecnologia di sintesi vocale
E45: appunti scritti al pc
E48: registrazioni digitali
E51: materiali multimediali (video, simulazioni…)
E54: testi semplificati e/o ridotti
E57: fotocopie
E60: schemi e mappe
E63: Altro…
A71: ATTIVITÀ SCOLASTICHE INDIVIDUALIZZATE PROGRAMMATE
E74: attività di recupero
E77: attività di consolidamento e/o di potenziamento
E80: attività di laboratorio
E83: attività di classi aperte (per piccoli gruppi)
E86: attività curriculari all’esterno dell’ambiente scolastico
E89: attività di carattere culturale, formativo, socializzante
E92: Altro…

Sheet Istruzioni
A1: =Stampa!J2 & " " & Stampa!J3 -> Istituto Comprensivo Statale Pietrasanta 2 | AI1: =[1]Stampa!J37 & " " & [1]Stampa!J38 -> Scuola Statale Primaria VERA VASSALLE
A3: Istruzioni
A6: Questo file è un supporto informatico sviluppato nell’anno scolastico 2016-2017 con l’applicazione “Microsoft EXCEL” per ottimizzare e velocizzare la stesura dei “Piani Didattici Personalizzati” degli alunni con “Bisogni Educativi Speciali”. È diventato un’occasione per avere un modello condiviso in tutte le realtà scolastiche del territorio. Prima d’iniziare la stesura del documento, copiare il file “PDP – Modello” e rinominarlo con il nome dell’alunno BES: es. “PDP–Rossi Marco”. Durante la compilazione, ricordarsi di salvare con una certa frequenza le informazioni inserite con gli appositi comandi dell’applicazione. Onde evitare possibili o accidentali manipolazioni, il file non consente di modificare informazioni nelle celle che contengono codice di calcolo. Si possono inserire o modificare dati solo nelle celle con lo sfondo “bianco”, le altre sono protette o nascoste (alcune modifiche di formattazione sono consentite solo nel foglio “Stampa” come indicato nel foglio “Pre-Stampa”). Per spostarsi da un foglio all’altro, è preferibile utilizzare i collegamenti ipertestuali, individuabili nei bottoncini di colore “blu elettrico” con le scritte “bianche”. Il foglio “HOME” gestisce la “navigazione” di tutto il file, “richiamabile” dagli altri fogli cliccando sul rispettivo collegamento ipertestuale ad eccezione del foglio “Stampa” (per una questione di pulizia e ordine). È possibile spostarsi da un foglio all’altro anche cliccando sui “Nomi dei fogli”, posizionati nella parte bassa dello schermo. Nelle sessioni a scelta multipla, è sufficiente inserire una “X” nella cella d’interesse (anche più voci). Una volta terminata la stesura del modello, solo il foglio “Stampa” va salvato in formato “.pdf” e/o stampato.
X8: Strutturato nell'A.S. 2016-2017
X9: dall'insegn. DAMIANO Raffaele
