Workbook

Sheet Stampa
J2: =IF(Istituto!C7<>"",Istituto!C7,"") -> Istituto Comprensivo Statale
J3: =IF(Istituto!C10<>"",Istituto!C10,"") -> Pietrasanta 2
J4: =IF(Istituto!T10<>"",Istituto!T10,"") -> LUIC850009
J6: =IF(Istituto!C13<>"",Istituto!C13,"") & IF(Istituto!P13<>"",", " & Istituto!P14 & " " & Istituto!P13,"") & IF(Istituto!T13<>""," " & Istituto!T13,"") & IF(Istituto!AG13<>""," (" & Istituto!AG13 & ")","") -> Beato Angelico, 6, c.a.p. 55045 Pietrasanta (LU)
J7: =IF(Istituto!C16<>"","Tel. " & Istituto!C16,"") & IF(Istituto!M16<>""," - Fax " & Istituto!M16,"") -> Tel. 0584 745924
J8: =IF(Istituto!W16<>"",Istituto!W17 & " ''" & Istituto!W16 & "''","") -> E-mail ''luic850009@istruzione.it''
J9: =IF(Istituto!C19<>"",Istituto!C20 & " " & Istituto!C19,"") -> Dirigente Prof.ssa Barbara Caterini
M14: P.D.P.
B15: Piano Didattico Personalizzato
M17: Anno Scolastico
M18: =Istituto!AC4 -> 2026 - 2027
M23: =IF(OR(Modulo!D4<>"",Modulo!R4<>""),Modulo!C4,"")
B24: =IF(M23<>"",Modulo!D4 & " " & Modulo!R4,"")
M27: =IF(OR(Modulo!D10<>"",Modulo!H10<>""),"Classe","")
M28: =IF(M27<>"",Modulo!D10 & Modulo!H10,"")
A32: =IF(OR(HOME!L16<>"",HOME!S16<>""),HOME!I16,"")
A33: =IF(A32<>"",IF(HOME!L16<>"",HOME!M16,IF(OR(HOME!S18<>"",HOME!U18<>"",HOME!W18<>"",HOME!Z18<>"",HOME!AB18<>"",HOME!AD18<>""),CONCATENATE(HOME!R18,HOME!S18,HOME!T18,HOME!U18,HOME!V18,HOME!W18,HOME!Y18,HOME!Z18,HOME!AA18,HOME!AB18,HOME!AC18,HOME!AD18),HOME!T16)),"")
J37: =IF(Plesso!C7<>"",Plesso!C7,"") -> Scuola Statale
J38: =IF(Plesso!C10<>"",Plesso!C10,"")
J39: =IF(Plesso!T10<>"",Plesso!T10,"") -> LUIC850009
J41: =IF(Plesso!C13<>"",Plesso!C13,"") & IF(Plesso!P13<>"",", " & Plesso!P14 & " " & Plesso!P13,"") & IF(Plesso!T13<>""," " & Plesso!T13,"") & IF(Plesso!AG13<>""," (" & Plesso!AG13 & ")","") -> , c.a.p. 55045 Pietrasanta (LU)
J42: =IF(Plesso!C16<>"","Tel. " & Plesso!C16,"") & IF(Plesso!M16<>""," - Fax " & Plesso!M16,"")
J43: =IF(Plesso!W16<>"",Plesso!W17 & " ''" & Plesso!W16 & "''","") -> E-mail ''LUIC850009@ISTRUZIONE.IT''
A44: =IF(Modulo!A$1<>"",Modulo!A$1,"") -> Istituto Comprensivo Statale Pietrasanta 2 | AI44: =B$15 & " di " & B$24 -> Piano Didattico Personalizzato di
R45: =Stampa!M14 & " " & Stampa!M18 -> P.D.P. 2026 - 2027
C47: =IF(AH47="F","Alunna","Alunno") -> Alunno | D47: =IF(HOME!D4<>"",HOME!D4,"") | R47: =IF(HOME!R4<>"",HOME!R4,"") | AG47: sesso | AH47: =IF(Modulo!AH4<>"",Modulo!AH4,"") | AI47: =IF(Modulo!AI4<>"",Modulo!AI4,"")
D48: cognome | R48: nome | AH48: M/F
C50: =IF(AH47="F","nata il","nato il") -> nato il | D50: =IF(Modulo!D7<>"",Modulo!D7,"") | E50: / | F50: =IF(Modulo!F7<>"",Modulo!F7,"") | G50: / | H50: =IF(Modulo!H7<>"",Modulo!H7,"") | I50: =IF(Modulo!I7<>"",Modulo!I7,"") | K50: a | L50: =IF(Modulo!L7<>"",Modulo!L7,"") | M50: =IF(Modulo!M7<>"",Modulo!M7,"") | N50: =IF(Modulo!N7<>"",Modulo!N7,"") | O50: =IF(Modulo!O7<>"",Modulo!O7,"") | P50: =IF(Modulo!P7<>"",Modulo!P7,"") | Q50: =IF(Modulo!Q7<>"",Modulo!Q7,"") | R50: =IF(Modulo!R7<>"",Modulo!R7,"") | S50: =IF(Modulo!S7<>"",Modulo!S7,"") | ... U50: =IF(Modulo!U7<>"",Modulo!U7,"") | Z50: nazionalità | AA50: =IF(Modulo!AA7<>"",Modulo!AA7,"") | AB50: =IF(Modulo!AB7<>"",Modulo!AB7,"") | AC50: =IF(Modulo!AC7<>"",Modulo!AC7,"") | AD50: =IF(Modulo!AD7<>"",Modulo!AD7,"") | AE50: =IF(Modulo!AE7<>"",Modulo!AE7,"") | AF50: =IF(Modulo!AF7<>"",Modulo!AF7,"") | AG50: =IF(Modulo!AG7<>"",Modulo!AG7,"") | AH50: =IF(Modulo!AH7<>"",Modulo!AH7,"") | AI50: =IF(Modulo!AI7<>"",Modulo!AI7,"")
D51: gg | F51: mm | H51: aaaa | L51: comune di nascita
C53: Classe | D53: =IF(Modulo!D10<>"",Modulo!D10,"") | E53: =IF(Modulo!E10<>"",Modulo!E10,"") | G53: Sez. | H53: =IF(Modulo!H10<>"",Modulo!H10,"") | I53: =IF(Modulo!I10<>"",Modulo!I10,"") | P53: tempo scuola di | Q53: =IF(Modulo!Q10<>"",Modulo!Q10,"") | R53: =IF(Modulo!R10<>"",Modulo!R10,"") | S53: / | T53: =IF(Modulo!T10<>"",Modulo!T10,"") | U53: =IF(Modulo!U10<>"",Modulo!U10,"") | V53: ore settimanali(1) | AG53: n. alunni classe | AH53: =IF(Modulo!AH10<>"",Modulo!AH10,"") | AI53: =IF(Modulo!AI10<>"",Modulo!AI10,"")
P54: dell'alunno/della classe
A56: Il curriculum scolastico risulta | K56: =IF(Modulo!K13<>"",Modulo!K13,"") | L56: regolare | Q56: =IF(Modulo!Q13<>"",Modulo!Q13,"") | R56: non regolare
A58: ="(1) Se l'orario dell'" & IF(AH47="F","alunna","alunno") & " è ridotto, spiegare le motivazioni e/o le attività svolte in quelle ore in cui non è presente a scuola." -> (1) Se l'orario dell'alunno è ridotto, spiegare le motivazioni e/o le attività svolte in quelle ore in cui non è presente a scuola.
A59: =IF(Modulo!A16<>"",Modulo!A16,"") | B59: =IF(Modulo!B16<>"",Modulo!B16,"") | C59: =IF(Modulo!C16<>"",Modulo!C16,"") | D59: =IF(Modulo!D16<>"",Modulo!D16,"") | E59: =IF(Modulo!E16<>"",Modulo!E16,"") | F59: =IF(Modulo!F16<>"",Modulo!F16,"") | G59: =IF(Modulo!G16<>"",Modulo!G16,"") | H59: =IF(Modulo!H16<>"",Modulo!H16,"") | ... AI59: =IF(Modulo!AI16<>"",Modulo!AI16,"")
A60: =IF(Modulo!A17<>"",Modulo!A17,"") | B60: =IF(Modulo!B17<>"",Modulo!B17,"") | C60: =IF(Modulo!C17<>"",Modulo!C17,"") | D60: =IF(Modulo!D17<>"",Modulo!D17,"") | E60: =IF(Modulo!E17<>"",Modulo!E17,"") | F60: =IF(Modulo!F17<>"",Modulo!F17,"") | G60: =IF(Modulo!G17<>"",Modulo!G17,"") | H60: =IF(Modulo!H17<>"",Modulo!H17,"") | ... AI60: =IF(Modulo!AI17<>"",Modulo!AI17,"")
A61: =IF(Modulo!A18<>"",Modulo!A18,"") | B61: =IF(Modulo!B18<>"",Modulo!B18,"") | C61: =IF(Modulo!C18<>"",Modulo!C18,"") | D61: =IF(Modulo!D18<>"",Modulo!D18,"") | E61: =IF(Modulo!E18<>"",Modulo!E18,"") | F61: =IF(Modulo!F18<>"",Modulo!F18,"") | G61: =IF(Modulo!G18<>"",Modulo!G18,"") | H61: =IF(Modulo!H18<>"",Modulo!H18,"") | ... AI61: =IF(Modulo!AI18<>"",Modulo!AI18,"")
A65: =IF(Modulo!B23<>""," - " & Modulo!C23,"") & IF(Modulo!B24<>""," - " & Modulo!C24,"") & IF(Modulo!B25<>""," - " & Modulo!C25,"") & IF(Modulo!B26<>""," - " & Modulo!C26,"") & IF(Modulo!B27<>""," - " & Modulo!C27,"") & IF(Modulo!B28<>""," - " & Modulo!C28,"") & IF(Modulo!B29<>""," - " & Modulo!C29,"") & IF(OR(Modulo!B30<>"",Modulo!J30<>"")," - " & Modulo!J30,"") & IF(OR(Modulo!B23<>"",Modulo!B24<>"",Modulo!B25<>"",Modulo!B26<>"",Modulo!B27<>"",Modulo!B28<>"",Modulo!B29<>"",Modulo!B30<>"",Modulo!J30<>"")," -","")
A67: =Modulo!A34 -> INDIVIDUAZIONE DELLA SITUAZIONE DI BISOGNO EDUCATIVO SPECIALE
A68: =IF(OR(Modulo!F41<>"",Modulo!I41<>""),Modulo!E41 & ": " & IF(Modulo!F41<>"",Modulo!F41,"") & " " & IF(Modulo!I41<>"","(" & Modulo!I41 & ")",""),"")
A69: =IF(OR(Modulo!B37<>"",Modulo!B38<>"",Modulo!B39<>""), Modulo!B36 & IF(Modulo!B37<>"",Modulo!C37,IF(Modulo!B38<>"",Modulo!C38,Modulo!C39)),"")
...

Sheet Pre-Stampa
G2: Attenzione !!!

Sheet HOME
D3: di
D5: cognome | R5: nome
Y8: Anno Scolastico: | Z8: 2026 | AC8: =IF(Z8<>""," - " & Z8+1,"") -> - 2027
Z9: inizio anno
K13: Luogo di compilazione | L13: Pietrasanta | Y13: Data di compilazione | AA13: / | AC13: /
Z14: gg | AB14: mm | AD14: aaaa
I16: Durata del PDP | M16: Anno Scolastico | T16: Periodo limitato
R18: dal | T18: / | V18: / | Y18: al | AA18: / | AC18: /
S19: gg | U19: mm | W19: aaaa | Z19: gg | AB19: mm | AD19: aaaa
E23: Impostazione documento
D24: 1. | E24: INFORMAZIONI GENERALI
D25: 2. | E25: CARATTERISTICHE DEL PROCESSO DI APPRENDIMENTO
D26: 3. | E26: DESCRIZIONE DEI COMPORTAMENTI
D27: 4. | E27: ABILITÀ STRUMENTALI
D28: 5. | E28: ALTRE INFORMAZIONI
D29: 6. | E29: INTERVENTI EDUCATIVI E DIDATTICI (strumenti compensativi e misure dispensative)
D30: 7. | E30: PATTO EDUCATIVO
X32: Strutturato nell'A.S. 2016-2017
X33: dall'insegn. DAMIANO Raffaele

Sheet Istituto
AB4: =IF(HOME!$Z$8<>"","Anno Scolastico:","") -> Anno Scolastico: | AC4: =IF(HOME!$Z$8<>"",HOME!$Z$8 & HOME!$AC$8,"") -> 2026 - 2027
B5: ISTITUTO
C7: Istituto Comprensivo Statale
C8: Denominazione
C10: Pietrasanta 2 | T10: LUIC850009
C11: Nome | T11: Cod. Meccanografico
C13: Beato Angelico, 6 | P13: 55045 | T13: Pietrasanta | AG13: LU
C14: Indirizzo | P14: c.a.p. | T14: Comune | AG14: Prov.
C16: 0584 745924 | W16: luic850009@istruzione.it
C17: Telefono | M17: Fax | W17: E-mail
C19: Prof.ssa Barbara Caterini
C20: Dirigente

Sheet Plesso
AB4: =IF(HOME!$Z$8<>"","Anno Scolastico:","") -> Anno Scolastico: | AC4: =IF(HOME!$Z$8<>"",HOME!$Z$8 & HOME!$AC$8,"") -> 2026 - 2027
B5: PLESSO
C7: Scuola Statale
C8: Denominazione
T10: LUIC850009
C11: Nome | T11: Cod. Meccanografico
P13: 55045 | T13: Pietrasanta | AG13: LU
C14: Indirizzo | P14: c.a.p. | T14: Comune | AG14: Prov.
W16: LUIC850009@ISTRUZIONE.IT
C17: Telefono | M17: Fax | W17: E-mail
C20: Capo plesso

Sheet Modulo
A1: =Stampa!J2 & " " & Stampa!J3 -> Istituto Comprensivo Statale Pietrasanta 2 | AI1: =Stampa!J37 & " " & Stampa!J38 -> Scuola Statale
R2: =Stampa!M14 & " " & Stampa!M18 -> P.D.P. 2026 - 2027
C4: =IF(AH4="F","Alunna","Alunno") -> Alunno | D4: =IF(HOME!D4<>"",HOME!D4,"") | R4: =IF(HOME!R4<>"",HOME!R4,"") | AG4: sesso
D5: cognome | R5: nome | AH5: M/F
C7: =IF(AH4="F","nata il","nato il") -> nato il | E7: / | G7: / | K7: a | Z7: nazionalità
D8: gg | F8: mm | H8: aaaa | L8: comune di nascita
C10: Classe | G10: Sez. | P10: tempo scuola di | S10: / | V10: ore settimanali(1) | AG10: n. alunni classe
P11: dell'alunno/della classe
A13: Il curriculum scolastico risulta | L13: regolare | R13: non regolare
A15: ="(1) Se l'orario dell'" & IF(AH4="F","alunna","alunno") & " è ridotto, spiegare le motivazioni e/o le attività svolte in quelle ore in cui non è presente a scuola." -> (1) Se l'orario dell'alunno è ridotto, spiegare le motivazioni e/o le attività svolte in quelle ore in cui non è presente a scuola.
A21: TIPOLOGIA DI BISOGNO EDUCATIVO SPECIALE
C23: Disturbo evolutivi specifici (DSA)
C24: Disturbo evolutivi specifici (non DSA)
C25: Disturbo da Deficit di Attenzione/Iperattività (ADHD)
C26: Disturbo Oppositivo Provocatorio (DOP)
C27: Disturbi del comportamento
C28: Funzionamento Intellettivo Limite
C29: Difficoltà derivanti dalla non conoscenza della cultura e della lingua italiana
C30: Situazioni particolari
A34: INDIVIDUAZIONE DELLA SITUAZIONE DI BISOGNO EDUCATIVO SPECIALE
B36: Rilasciata da:
C37: SERVIZIO SANITARIO NAZIONALE - Diagnosi / Relazione multi professionale
C38: ALTRO SERVIZIO (diagnosi rilasciata da privati)
C39: CONSIGLIO DI CLASSE / TEAM DOCENTI - Relazione (da allegare)
E41: Codice ICD10
F42: codice | I42: diagnosi
E44: Redatta da | AB44: in data | AD44: / | AF44: /
AC45: gg | AE45: mm | AG45: aaaa
A49: PARTI COINVOLTE
B51: DOCENTI
C53: Cognome | J53: Nome | R53: Disciplina/e
B80: GENITORI / TUTORI
C82: Cognome | J82: Nome | R82: Grado di parentela
A91: COMPILAZIONE
AC102: Data di compilazione: | AD102: =IF(HOME!Z13<>"",HOME!Z13,"") | AE102: / | AF102: =IF(HOME!AB13<>"",HOME!AB13,"") | AG102: / | AH102: =IF(HOME!AD13<>"",HOME!AD13,"")
AD103: gg | AF103: mm | AH103: aaaa
AC104: Luogo di compilazione: | AD104: =IF(HOME!L13<>"",HOME!L13,"") -> Pietrasanta

Sheet Processo di apprendimento
A1: =Stampa!J2 & " " & Stampa!J3 -> Istituto Comprensivo Statale Pietrasanta 2 | AI1: =Stampa!J37 & " " & Stampa!J38 -> Scuola Statale
S2: PROCESSO DI APPRENDIMENTO
C4: =IF(Modulo!AH4="F","Alunna","Alunno") -> Alunno | D4: =IF(HOME!D4<>"",HOME!D4,"") | T4: =IF(HOME!R4<>"",HOME!R4,"")
D5: cognome | T5: nome
A9: CARATTERISTICHE DEL PROCESSO DI APPRENDIMENTO
H11: Dati rilevabili da osservazioni in classe | V11: Dati rilevabili da diagnosi specialistica
B12: Proprietà linguistica
J13: nessuna difficoltà
J14: difficoltà morfologica
J15: difficoltà sintattica
J16: difficoltà lessicale
J17: difficoltà globale nell'esposizione orale
J18: altro…
B21: Memoria
J22: nessuna difficoltà
J23: diff. nel memorizzare categorizzazioni
J24: diff. nel memorizzare sequenze e procedure
J25: diff. nel memorizzare formule, strutture grammaticali, algoritmi (tabelline, nomi…)
J27: altro…
B30: Attenzione
J31: nessuna difficoltà
J32: difficoltà nell'attenzione divisa
J33: difficoltà nell'attenzione selettiva
J34: difficoltà nell'attenzione sostenuta
J35: altro…
B38: Affaticabilità
J39: sì
J40: poca
J41: no
J42: altro…
B45: Prassie
J46: nessuna difficoltà
J47: difficoltà di esecuzione
J48: difficoltà di pianificazione
J49: difficoltà programmazione e progettazione
J50: altro…
A57: MOTIVAZIONE
H59: Dati rilevabili da osservazioni in classe | V59: Dati rilevabili da diagnosi specialistica
B60: Partecipazione al dialogo educativo
J61: molto adeguata
...

Sheet Descrizione dei comportamenti
A1: =Stampa!J2 & " " & Stampa!J3 -> Istituto Comprensivo Statale Pietrasanta 2 | AI1: =Stampa!J37 & " " & Stampa!J38 -> Scuola Statale
S2: DESCRIZIONE DEI COMPORTAMENTI
C4: =IF(Modulo!AH4="F","Alunna","Alunno") -> Alunno | D4: =IF(HOME!D4<>"",HOME!D4,"") | T4: =IF(HOME!R4<>"",HOME!R4,"")
D5: cognome | T5: nome
A9: DESCRIZIONE DEI COMPORTAMENTI
H11: Dati rilevabili da osservazioni in classe | V11: Dati rilevabili da diagnosi specialistica
B12: Comprensione delle consegne
J13: non evidenzia particolari problematicità
J14: evidenzia problematicità lievi o occasionali
J15: evidenzia problematicità rilevanti o reiterate
J16: altro…
B19: Esecuzione delle consegne
J20: non evidenzia particolari problematicità
J21: evidenzia problematicità lievi o occasionali
J22: evidenzia problematicità rilevanti o reiterate
J23: altro…
B26: Partecipazione alle lezioni
J27: non evidenzia particolari problematicità
J28: evidenzia problematicità lievi o occasionali
J29: evidenzia problematicità rilevanti o reiterate
J30: altro…
B33: Pertinenza dell'intervento
J34: non evidenzia particolari problematicità
J35: evidenzia problematicità lievi o occasionali
J36: evidenzia problematicità rilevanti o reiterate
J37: altro…
B40: Autonomia nel lavoro
J41: non evidenzia particolari problematicità
J42: evidenzia problematicità lievi o occasionali
J43: evidenzia problematicità rilevanti o reiterate
J44: altro…
B47: Rispetto delle regole
J48: non evidenzia particolari problematicità
J49: evidenzia problematicità lievi o occasionali
J50: evidenzia problematicità rilevanti o reiterate
J51: altro…
B54: Attenzione ai richiami dell'insegnante / educatore
J55: non evidenzia particolari problematicità
J56: evidenzia problematicità lievi o occasionali
J57: evidenzia problematicità rilevanti o reiterate
...

Sheet Abilità strumentali
A1: =Stampa!J2 & " " & Stampa!J3 -> Istituto Comprensivo Statale Pietrasanta 2 | AI1: =Stampa!J37 & " " & Stampa!J38 -> Scuola Statale
R2: ABILITÀ STRUMENTALI
C4: =IF(Modulo!AH4="F","Alunna","Alunno") -> Alunno | D4: =IF(HOME!D4<>"",HOME!D4,"") | T4: =IF(HOME!R4<>"",HOME!R4,"")
D5: cognome | T5: nome
A9: LETTURA
H11: Dati rilevabili da osservazioni in classe | U11: Dati rilevabili da diagnosi specialistica
B12: Velocità
J13: scorrevole
J14: lenta
J15: molto lenta
J16: altro…
B19: Correttezza
J20: adeguata
J21: non adeguata
J22: =IF(I21<>"","presenta:","")
K23: =IF(I$21<>""," confusioni","") | O23: =IF(I21<>"","}","") | Q23: =IF(I$21<>""," di lettere o sillabe","")
K24: =IF(I$21<>""," inversioni","")
K25: =IF(I$21<>""," sostituzioni","")
K26: =IF(I$21<>""," omissioni","")
K27: =IF(I21<>""," altro…","")
B30: Comprensione
J31: completa - analitica
J32: globale
J33: essenziale
J34: scarsa
J35: altro…
B38: Altro…
A46: SCRITTURA
B48: Sotto dettatura | H48: Dati rilevabili da osservazioni in classe | U48: Dati rilevabili da diagnosi specialistica
B49: Produzione
J50: corretta
J51: poco corretta
J52: scorretta
J53: altro…
B56: Errori tipici
J57: fonologici
J58: non fonologici
J59: fonetici
J60: altro…
B63: Altro…
...

Sheet Altre informazioni
A1: =Stampa!J2 & " " & Stampa!J3 -> Istituto Comprensivo Statale Pietrasanta 2 | AI1: =Stampa!J37 & " " & Stampa!J38 -> Scuola Statale
R2: ALTRE INFORMAZIONI
C4: =IF(Modulo!AH4="F","Alunna","Alunno") -> Alunno | D4: =IF(HOME!D4<>"",HOME!D4,"") | T4: =IF(HOME!R4<>"",HOME!R4,"")
D5: cognome | T5: nome
A9: ALTRE INFORMAZIONI…
B11: Dati rilevabili da osservazioni in classe | S11: Dati rilevabili da diagnosi specialistica

Sheet Interventi educativi-didattici
A1: =Stampa!J2 & " " & Stampa!J3 -> Istituto Comprensivo Statale Pietrasanta 2 | AI1: =Stampa!J37 & " " & Stampa!J38 -> Scuola Statale
R2: INTERVENTI EDUCATIVI E DIDATTICI
R3: STRATEGIE DI PERSONALIZZAZIONE / INDIVIDUALIZZAZIONE
C5: =IF(Modulo!AH4="F","Alunna","Alunno") -> Alunno | D5: =IF(HOME!D4<>"",HOME!D4,"") | T5: =IF(HOME!R4<>"",HOME!R4,"")
D6: cognome | T6: nome
A10: MISURE DISPENSATIVE (legge 170/10 e linee guida 12/07/2011)
E13: Dispensa dalla lettura ad alta voce in classe
E16: Dispensa dall’uso dei quattro caratteri di scrittura
E19: Dispensa dall’uso del corsivo e dello stampato minuscolo
E22: Dispensa dalla scrittura sotto dettatura di testi e/o appunti
E25: Dispensa dal ricopiare testi o espressioni matematiche dalla lavagna
E28: Dispensa dallo studio mnemonico delle tabelline, delle forme verbali, delle poesie
E31: Dispensa dall’utilizzo di tempi standard
E34: Riduzione delle consegne senza modificare gli obiettivi
E37: Dispensa da un eccessivo carico di compiti con riadattamento e riduzione delle pagine da studiare, senza modificare gli obiettivi
E41: Dispensa dalla sovrapposizione di compiti e interrogazioni di più materie
E44: Dispensa parziale dallo studio della lingua straniera in forma scritta, che verrà valutata in percentuale minore rispetto all’orale non considerando errori ortografici e di spelling
E48: Altro…
A56: STRUMENTI COMPENSATIVI (legge 170/10 e linee guida 12/07/2011)
E59: Utilizzo di computer e tablet
E62: Utilizzo di programmi di video-scrittura con correttore ortografico (possibilmente vocale) e con tecnologie di sintesi vocale (anche per le lingue straniere)
E66: Utilizzo di risorse audio (file audio digitali, audiolibri…).
E69: Utilizzo del registratore digitale o di altri strumenti di registrazione per uso personale
E72: Utilizzo di ausili per il calcolo (tavola pitagorica, linee dei numeri…) ed eventualmente della calcolatrice con foglio di calcolo (possibilmente calcolatrice vocale)
E76: Utilizzo di schemi, tabelle, mappe e diagrammi di flusso come supporto alle varie discipline
E79: Utilizzo di mappe e schemi durante le interrogazioni, eventualmente anche su supporto digitalizzato (presentazioni multimediali), per facilitare il recupero delle informazioni
E83: Utilizzo di schemi di sviluppo per la produzione scritta
E86: Utilizzo di software didattici e compensativi (free e/o commerciali)
E89: Utilizzo di libri digitali
E92: Utilizzo di penne con impugnatura ergonomica
E95: Definizione di poche, ma chiare regole di comportamento in classe
... E107: Altro…
A115: MODALITÀ DI SVOLGIMENTO DELLE PROVE DI VERIFICA
B117: PROVE SCRITTE
E119: Utilizzo di schemi, tavole, mappe e di ogni altro strumento compensativo della memoria
E122: Lettura della consegna
E125: Uso della calcolatrice, di tavole pitagoriche, formulari, tabelle
E128: Prove strutturate con risposta a scelta multipla
E131: Riduzione quantitativa della consegna
E134: Tempi più lunghi per lo svolgimento della prova
...

Sheet Patto educativo
A1: =Stampa!J2 & " " & Stampa!J3 -> Istituto Comprensivo Statale Pietrasanta 2 | AI1: =Stampa!J37 & " " & Stampa!J38 -> Scuola Statale
R2: PATTO EDUCATIVO
R3: Si concorda con la famiglia e lo studente
C5: =IF(Modulo!AH4="F","Alunna","Alunno") -> Alunno | D5: =IF(HOME!D4<>"",HOME!D4,"") | T5: =IF(HOME!R4<>"",HOME!R4,"")
D6: cognome | T6: nome
A10: NELLE ATTIVITÀ DI STUDIO, L'ALLIEVO:
E13: è seguito da un Tutor nelle seguenti discipline:
F16: con cadenza | L16: quotidiana | R16: bisettimanale | X16: settimanale | AD16: quindicinale
E19: è seguito da familiari
E22: ricorre all’aiuto di compagni
E25: utilizza strumenti compensativi
E28: Altro…
A36: STRUMENTI DA UTILIZZARE NEL LAVORO A CASA
E39: strumenti informatici (pc, videoscrittura con correttore ortografico,…)
E42: tecnologia di sintesi vocale
E45: appunti scritti al pc
E48: registrazioni digitali
E51: materiali multimediali (video, simulazioni…)
E54: testi semplificati e/o ridotti
E57: fotocopie
E60: schemi e mappe
E63: Altro…
A71: ATTIVITÀ SCOLASTICHE INDIVIDUALIZZATE PROGRAMMATE
E74: attività di recupero
E77: attività di consolidamento e/o di potenziamento
E80: attività di laboratorio
E83: attività di classi aperte (per piccoli gruppi)
E86: attività curriculari all’esterno dell’ambiente scolastico
E89: attività di carattere culturale, formativo, socializzante
E92: Altro…

Sheet Istruzioni
A1: =Stampa!J2 & " " & Stampa!J3 -> Istituto Comprensivo Statale Pietrasanta 2 | AI1: =[1]Stampa!J37 & " " & [1]Stampa!J38 -> Scuola Statale Primaria VERA VASSALLE
A3: Istruzioni
A6: Questo file è un supporto informatico sviluppato nell’anno scolastico 2016-2017 con l’applicazione “Microsoft EXCEL” per ottimizzare e velocizzare la stesura dei “Piani Didattici Personalizzati” degli alunni con “Bisogni Educativi Speciali”. È diventato un’occasione per avere un modello condiviso in tutte le realtà scolastiche del territorio. Prima d’iniziare la stesura del documento, copiare il file “PDP – Modello” e rinominarlo con il nome dell’alunno BES: es. “PDP–Rossi Marco”. Durante la compilazione, ricordarsi di salvare con una certa frequenza le informazioni inserite con gli appositi comandi dell’applicazione. Onde evitare possibili o accidentali manipolazioni, il file non consente di modificare informazioni nelle celle che contengono codice di calcolo. Si possono inserire o modificare dati solo nelle celle con lo sfondo “bianco”, le altre sono protette o nascoste (alcune modifiche di formattazione sono consentite solo nel foglio “Stampa” come indicato nel foglio “Pre-Stampa”). Per spostarsi da un foglio all’altro, è preferibile utilizzare i collegamenti ipertestuali, individuabili nei bottoncini di colore “blu elettrico” con le scritte “bianche”. Il foglio “HOME” gestisce la “navigazione” di tutto il file, “richiamabile” dagli altri fogli cliccando sul rispettivo collegamento ipertestuale ad eccezione del foglio “Stampa” (per una questione di pulizia e ordine). È possibile spostarsi da un foglio all’altro anche cliccando sui “Nomi dei fogli”, posizionati nella parte bassa dello schermo. Nelle sessioni a scelta multipla, è sufficiente inserire una “X” nella cella d’interesse (anche più voci). Una volta terminata la stesura del modello, solo il foglio “Stampa” va salvato in formato “.pdf” e/o stampato.
X8: Strutturato nell'A.S. 2016-2017
X9: dall'insegn. DAMIANO Raffaele
